BEGIN:VCALENDAR
VERSION:2.0
PRODID:-//Bonanno Concepts - ECPv6.15.20//NONSGML v1.0//EN
CALSCALE:GREGORIAN
METHOD:PUBLISH
X-ORIGINAL-URL:https://www.osteriamarco.com
X-WR-CALDESC:Events for Bonanno Concepts
REFRESH-INTERVAL;VALUE=DURATION:PT1H
X-Robots-Tag:noindex
X-PUBLISHED-TTL:PT1H
BEGIN:VTIMEZONE
TZID:America/Denver
BEGIN:DAYLIGHT
TZOFFSETFROM:-0700
TZOFFSETTO:-0600
TZNAME:MDT
DTSTART:20240310T090000
END:DAYLIGHT
BEGIN:STANDARD
TZOFFSETFROM:-0600
TZOFFSETTO:-0700
TZNAME:MST
DTSTART:20241103T080000
END:STANDARD
BEGIN:DAYLIGHT
TZOFFSETFROM:-0700
TZOFFSETTO:-0600
TZNAME:MDT
DTSTART:20250309T090000
END:DAYLIGHT
BEGIN:STANDARD
TZOFFSETFROM:-0600
TZOFFSETTO:-0700
TZNAME:MST
DTSTART:20251102T080000
END:STANDARD
BEGIN:DAYLIGHT
TZOFFSETFROM:-0700
TZOFFSETTO:-0600
TZNAME:MDT
DTSTART:20260308T090000
END:DAYLIGHT
BEGIN:STANDARD
TZOFFSETFROM:-0600
TZOFFSETTO:-0700
TZNAME:MST
DTSTART:20261101T080000
END:STANDARD
END:VTIMEZONE
BEGIN:VEVENT
DTSTART;TZID=America/Denver:20251101T160000
DTEND;TZID=America/Denver:20251101T190000
DTSTAMP:20260420T031816
CREATED:20251009T033252Z
LAST-MODIFIED:20251009T033253Z
UID:4212-1762012800-1762023600@www.osteriamarco.com
SUMMARY:Ognissanti: Italian Day of the Dead
DESCRIPTION:Ognissanti: Italian Day of the Dead\n  \nJoin us for a sacred evening honoring our Italian roots and heritage on November 1st. \n  \n We’ll celebrate the ancient tradition of Ognissanti – Italy’s Day of the Dead – with candlelight\, authentic regional cuisine\, and carefully selected Italian wines. \n  \nLight a candle in remembrance\, feast on traditional dishes passed down through generations\, and raise a glass to those who came before us. This intimate gathering celebrates life through food and fellowship\, connecting us to our ancestors and the rich cultural traditions that shape us. \n  \nCome honor the past while embracing the joy of being together. In true Italian fashion\, we remember through celebration. \n  \nReservations required.
URL:https://www.osteriamarco.com/event/ognissanti-italian-day-of-the-dead/
LOCATION:CO
CATEGORIES:Osteria Marco
ATTACH;FMTTYPE=image/png:https://www.osteriamarco.com/wp-content/uploads/2025/10/83553605.png
END:VEVENT
BEGIN:VEVENT
DTSTART;TZID=America/Denver:20251116T110000
DTEND;TZID=America/Denver:20251116T150000
DTSTAMP:20260420T031816
CREATED:20251003T222453Z
LAST-MODIFIED:20251008T224056Z
UID:4204-1763290800-1763305200@www.osteriamarco.com
SUMMARY:Wicked for Good
DESCRIPTION:Wicked for Good\n  \nSunday\, November 16th \n  \nOne day before the movie hits theaters\, we’re defying gravity with Denver’s most magical drag brunch! Are you Team Glinda or Team Elphaba? Our queens will help you discover your true colors through show-stopping performances of Broadway’s most beloved songs. Expect emerald and pink cocktails\, spellbinding entertainment\, and prizes that would make even the Wizard jealous. Popular? You will be after this brunch! \n  \nReady to make your Sunday unforgettable? Reserve your table today and join Denver’s most fabulous brunch tradition at Osteria Marco. \n  \n📍 Osteria Marco – Larimer Square\, Denver \n🕚 Sundays | Show: 11am–1pm | Brunch: 11am–3pm \n🎟️ Free to play | Doors open at 10:30am \nReservations are highly encouraged as tables fill quickly—make yours here. \nView our full brunch menu here.
URL:https://www.osteriamarco.com/event/wicked-for-good/
LOCATION:Osteria Marco\, 1453 Larimer St\, Denver\, CO\, 80202\, United States
CATEGORIES:Osteria Marco
ATTACH;FMTTYPE=image/jpeg:https://www.osteriamarco.com/wp-content/uploads/2025/10/Wicked_for_Good2.jpg
END:VEVENT
END:VCALENDAR